BEGIN:VCALENDAR
VERSION:2.0
PRODID:icalendar-ruby
CALSCALE:GREGORIAN
METHOD:PUBLISH
BEGIN:VEVENT
DTSTAMP:20260422T101903Z
UID:196-1764083@encounterchurchfw.org
DTSTART:20261011T170000Z
DTEND:20261011T174500Z
CLASS:PUBLIC
CREATED:20260421T192719
DESCRIPTION:ESPAÑOL\n \nA partir del año nuevo 2026\, Encounter Church s
 e goza en anunciar que ahora tendremos Sermones en Español\, en vivo y en
  persona\, todos los domingos a las 12:00 PM.\n \nTe invitamos a entrar a
  la casa del Señor y conectarte en persona\, para experimentar Su presenc
 ia\, adorar juntos y recibir la Palabra de Dios en tu idioma. Este es un t
 iempo para crecer en la fe\, fortalecer el espíritu y caminar en comunida
 d.\n \nTe animamos a invitar a un amigo\, vecino o familiar para que veng
 a y experimente el poder transformador de la Palabra de Dios y sea parte d
 e nuestra familia de Encounter Church (EC).\n \nVen tal como eres. Aquí 
 hay un lugar para ti. \nEstamos expectantes por lo que Dios hará mientras
  caminamos juntos en unidad y fe.\n \n 10180 Rolling Hills Dr\, Benbrook\
 , TX 76126\n Domingos | 12:00 PM\n Sermones en Español – En Vivo en la 
 Iglesia\n \n\n \n \n \nENGLISH\nBeginning in the New Year 2026\, Encoun
 ter Church is excited to announce the launch of Spanish Sermons\, live and
  in person\, every Sunday at 12:00 PM.\n \nWe warmly invite you into the 
 house of the Lord to connect in person and experience the presence of God 
 through worship\, fellowship\, and the Word—now shared in Spanish. This 
 is a powerful opportunity to grow in faith\, build community\, and walk to
 gether in spiritual unity.\n \nWe encourage you to invite a friend\, neig
 hbor\, or family member to come experience the Word of God and become part
  of our Encounter Church (EC) family.\n \nCome as you are—there is a pl
 ace for you here. \nWe look forward with great expectation to all that God
  will do as we move forward together in faith.\n \n 10180 Rolling Hills D
 r\, Benbrook\, TX 76126\n Sundays | 12:00 PM\n Spanish Sermons – Live in
  the Church
LAST-MODIFIED:20260421T192719
LOCATION:
SUMMARY:Sermones En Español: EN VIVO
URL;VALUE=URI:https://encounterchurchfw.org/events/sermones-en-espanol-en-v
 ivo/2026-10-11
ATTACH;FILENAME=2026-Espanol-App--%28169%29.jpg;FMTTYPE=image/jpeg:https://
 dq5pwpg1q8ru0.cloudfront.net/2025/12/31/18/02/27/38116f00-82b0-4e09-8d0f-1
 41a6571603f/2026-Espanol-App--%2528169%2529.jpg
END:VEVENT
END:VCALENDAR
